BEGIN:VCALENDAR
VERSION:2.0
PRODID:icalendar-ruby
CALSCALE:GREGORIAN
METHOD:PUBLISH
BEGIN:VEVENT
DTSTAMP:20260422T022010Z
UID:6-2700371@cwcpei.com
DTSTART:20260919T220000Z
DTEND:20260920T000000Z
CLASS:PUBLIC
CREATED:20260421T203945
DESCRIPTION:CLICK HERE TO WATCH HOUSE OF PRAYER VIDEOS ON FACEBOOK\n \n \
 n 
LAST-MODIFIED:20260421T203945
LOCATION:CWC Stratford
SUMMARY:PEI House of Prayer
URL;VALUE=URI:https://www.cwcpei.com/events/pei-house-of-prayer/2026-09-19
ATTACH;FILENAME=addtext_com_MDk0OTQ3MjM4OQ.jpg;FMTTYPE=image/jpeg:https://d
 q5pwpg1q8ru0.cloudfront.net/2018/10/29/06/51/41/cdbfeac8-f454-4056-84a4-38
 ed2d082c9e/addtext_com_MDk0OTQ3MjM4OQ.jpg
END:VEVENT
END:VCALENDAR
